BEGIN:VCALENDAR
VERSION:2.0
PRODID:-//Centre d&#039;exposition Napoléon-Bourassa - ECPv5.15.0.1//NONSGML v1.0//EN
CALSCALE:GREGORIAN
METHOD:PUBLISH
X-WR-CALNAME:Centre d&#039;exposition Napoléon-Bourassa
X-ORIGINAL-URL:https://centrenapoleonbourassa.ca
X-WR-CALDESC:Events for Centre d&#039;exposition Napoléon-Bourassa
REFRESH-INTERVAL;VALUE=DURATION:PT1H
X-Robots-Tag:noindex
X-PUBLISHED-TTL:PT1H
BEGIN:VTIMEZONE
TZID:America/New_York
BEGIN:DAYLIGHT
TZOFFSETFROM:-0500
TZOFFSETTO:-0400
TZNAME:EDT
DTSTART:20240310T070000
END:DAYLIGHT
BEGIN:STANDARD
TZOFFSETFROM:-0400
TZOFFSETTO:-0500
TZNAME:EST
DTSTART:20241103T060000
END:STANDARD
END:VTIMEZONE
BEGIN:VEVENT
DTSTART;TZID=America/New_York:20240602T100000
DTEND;TZID=America/New_York:20240602T150000
DTSTAMP:20260420T074456
CREATED:20240509T173114Z
LAST-MODIFIED:20240509T173114Z
UID:11553-1717322400-1717340400@centrenapoleonbourassa.ca
SUMMARY:Festival de l'asperge 2024
DESCRIPTION:Pour une deuxième année consécutive\, la Ferme coopérative Agricola vous invite à venir célébrer notre légume emblématique saisonnier: l’Asperge!Depuis plus de 40 ans\, cette plante vivace est cultivée sur notre terre\, avec amour et poésie. À cette occasion\, nous ouvrons notre espace au printemps et à la communauté dans une ambiance festive et artistique\, comme la tradition le veut!\nToute la journée: Marché d’arts et de talents locaux\, murale communautaire\, vente de légumes et de plans pour votre jardin\, vente d’arbre de la pépinière la Réfriche\, jeux de gazon\, visites de ferme auto-guidées et cafés de l’Atelier de torréfaction La forêt\n11h30-15h: Sandwich signés Ferme Brylee\, bar à salade\, confections Kisisam\, et BBQ roulant de l’Alliance Alimentaire afin de tester des recettes d’asperge grillées\n13h00: Atelier sur la culture des asperges et la géologie avec Guy-Louis Poncelet\, l’ancien propriétaire de la ferme (contribution volontaire)\nGRATUIT!Bienvenue à tous et à toutes!*SVP communiquer avec nous pour tout besoin particulier
URL:https://centrenapoleonbourassa.ca/event/festival-de-lasperge-2024/
LOCATION:Agricola\, 502 route 323\, Papineauville\, Québec\, J0V 1R0\, Canada
CATEGORIES:Calendrier Culturel
ORGANIZER;CN="Agricola":MAILTO:info@fermeagricola.com
END:VEVENT
END:VCALENDAR