BEGIN:VCALENDAR
VERSION:2.0
PRODID:-//Centre d&#039;exposition Napoléon-Bourassa - ECPv5.15.0.1//NONSGML v1.0//EN
CALSCALE:GREGORIAN
METHOD:PUBLISH
X-WR-CALNAME:Centre d&#039;exposition Napoléon-Bourassa
X-ORIGINAL-URL:https://centrenapoleonbourassa.ca
X-WR-CALDESC:Events for Centre d&#039;exposition Napoléon-Bourassa
REFRESH-INTERVAL;VALUE=DURATION:PT1H
X-Robots-Tag:noindex
X-PUBLISHED-TTL:PT1H
BEGIN:VTIMEZONE
TZID:America/New_York
BEGIN:DAYLIGHT
TZOFFSETFROM:-0500
TZOFFSETTO:-0400
TZNAME:EDT
DTSTART:20240310T070000
END:DAYLIGHT
BEGIN:STANDARD
TZOFFSETFROM:-0400
TZOFFSETTO:-0500
TZNAME:EST
DTSTART:20241103T060000
END:STANDARD
END:VTIMEZONE
BEGIN:VEVENT
DTSTART;TZID=America/New_York:20240605T143000
DTEND;TZID=America/New_York:20240605T170000
DTSTAMP:20260421T061845
CREATED:20240514T142254Z
LAST-MODIFIED:20240514T142254Z
UID:11622-1717597800-1717606800@centrenapoleonbourassa.ca
SUMMARY:Ouverture de la saison 2024 - Centre d'art populaire de Plaisance
DESCRIPTION:Nous avons le plaisir de vous convier à l’ouverture de la saison 2024 du Centre d’Art populaire du Québec\, à Plaisance\, qui se tiendra le 5 juin 2024 à 14h30. Cet événement marquera une étape significative dans notre engagement à promouvoir et célébrer l’art populaire sous toutes ses formes.\nAu programme de cette journée d’inauguration\, nous aurons le plaisir de présenter l’exposition luminocinétique de l’artiste renommé Florent Veilleux. Cette expérience visuelle captivante promet d’émerveiller et d’inspirer tous les amateurs d’art présents.\nDe plus\, nous aurons le plaisir de vous convier au vernissage des expositions suivantes :• Courtepointes : Une collection vibrante d’œuvres textiles qui témoignent du talent et de la créativité des artisans québécois.• Pierre D. Ménard présente « Appelants’’ : Une exploration visuelle des traditions de chasse et de pêche\, illustrée par une sélection d’œuvres évocatrices.• Exposition de coq dans la salle Adrien Levasseur : Une exposition unique mettant en lumière la beauté et la diversité des coqs à travers l’objectif artistique.• Jacinthe Rhéaume : Une rétrospective fascinante de l’œuvre de l’artiste Jacinthe Rhéaume\, offrant un regard sur son parcours créatif.• Cafetières de Rémi Dumas : Une exposition insolite mettant en vedette une collection étonnante de cafetières\, transformées en œuvres d’art par l’imagination de l’artiste.Nous aurons également le plaisir d’assister au lancement du livre d’Adrien Levasseur\, qui explore en profondeur l’œuvre et l’impact de l’artiste Florent Veilleux. Ce livre constitue une contribution précieuse à notre compréhension de son travail et de son héritage artistique.\nL’entrée à cet événement est libre\, et nous espérons sincèrement que vous pourrez vous joindre à nous pour célébrer ce moment historique dans la vie culturelle de notre communauté.
URL:https://centrenapoleonbourassa.ca/event/ouverture-de-la-saison-2024-centre-dart-populaire-de-plaisance/
LOCATION:Centre d’art populaire du Québec\, 276\, rue Desjardins\, Plaisance\, Québec\, J0V 1S0\, Canada
CATEGORIES:Calendrier Culturel
ORGANIZER;CN="Centre%20d%27art%20populaire%20du%20Qu%C3%A9bec":MAILTO:info@maisonartpopulaire.ca
END:VEVENT
END:VCALENDAR