BEGIN:VCALENDAR
VERSION:2.0
PRODID:-//Centre d&#039;exposition Napoléon-Bourassa - ECPv5.15.0.1//NONSGML v1.0//EN
CALSCALE:GREGORIAN
METHOD:PUBLISH
X-WR-CALNAME:Centre d&#039;exposition Napoléon-Bourassa
X-ORIGINAL-URL:https://centrenapoleonbourassa.ca
X-WR-CALDESC:Events for Centre d&#039;exposition Napoléon-Bourassa
REFRESH-INTERVAL;VALUE=DURATION:PT1H
X-Robots-Tag:noindex
X-PUBLISHED-TTL:PT1H
BEGIN:VTIMEZONE
TZID:America/New_York
BEGIN:DAYLIGHT
TZOFFSETFROM:-0500
TZOFFSETTO:-0400
TZNAME:EDT
DTSTART:20240310T070000
END:DAYLIGHT
BEGIN:STANDARD
TZOFFSETFROM:-0400
TZOFFSETTO:-0500
TZNAME:EST
DTSTART:20241103T060000
END:STANDARD
BEGIN:DAYLIGHT
TZOFFSETFROM:-0500
TZOFFSETTO:-0400
TZNAME:EDT
DTSTART:20250309T070000
END:DAYLIGHT
BEGIN:STANDARD
TZOFFSETFROM:-0400
TZOFFSETTO:-0500
TZNAME:EST
DTSTART:20251102T060000
END:STANDARD
END:VTIMEZONE
BEGIN:VEVENT
DTSTART;TZID=America/New_York:20250417T190000
DTEND;TZID=America/New_York:20250417T210000
DTSTAMP:20260420T080310
CREATED:20250416T155946Z
LAST-MODIFIED:20250416T155946Z
UID:13865-1744916400-1744923600@centrenapoleonbourassa.ca
SUMMARY:MLLE bottine
DESCRIPTION:Un film de Yan Lanouette Turgeon\n2024 | 111 min | Québec | ComédieDistribution: Antoine Bertrand\, Marguerite Laurence\, Mani Soleymanlou\, Marilyne Castonguay\nPhilippe\, un compositeur d’opéra en panne d’inspiration\, se voit forcé d’héberger sa nièce Simone\, une orpheline rebelle et excentrique dont la meilleure amie est une mouffette. Malgré leurs personnalités diamétralement opposées\, Philippe et Simone découvrent rapidement qu’ils pourraient avoir besoin l’un de l’autre plus qu’ils ne l’auraient initialement cru.\nBande-annonce: https://youtu.be/TXRC5IFf_qw
URL:https://centrenapoleonbourassa.ca/event/mlle-bottine/
LOCATION:Salle Desjardins de la Petite-Nation\, 378 rue Papineau\, Papineauville\, Québec\, Canada
CATEGORIES:Calendrier Culturel
ORGANIZER;CN="cin%C3%A9maboule":MAILTO:cinemaboule@gmail.com
END:VEVENT
BEGIN:VEVENT
DTSTART;TZID=America/New_York:20250320T170000
DTEND;TZID=America/New_York:20250320T183000
DTSTAMP:20260420T080310
CREATED:20250206T133137Z
LAST-MODIFIED:20250206T133137Z
UID:13654-1742490000-1742495400@centrenapoleonbourassa.ca
SUMMARY:Les enfants du théâtre - Célébration et projection
DESCRIPTION:Ce film relate l’histoire du Théâtre Royal de Saint-André-Avellin\, devenu\, en 2002\, le Théâtre des Quatre Sœurs\, à travers les yeux de la réalisatrice du documentaire et petite-fille du cofondateur du théâtre\, Cynthia d’Aragon Bisson.\nCe documentaire est une façon de souligner concrètement l’héritage artistique\, culturel et humain que cet établissement\, érigé en 1949 et démoli en 2015 au coeur de la campagne québécoise\, a apporté à la région de la Petite Nation et aux personnes y vivant.\n***Célébration -17 h***\nLa projection du documentaire sera précédé d’une célébration ; celle de la vie du théâtre et de la vie de Daniel Bisson\, fils du cofondateur du théâtre et père de la réalisatrice. Cette dernière explique ici pourquoi : « Beaucoup de personnes du coin\, gravées dans ma mémoire d’enfant\, me parlent encore fréquemment aujourd’hui de Danbi\, cet homme extravagant et motivé qui participait pleinement à l’existence d’un lieu festif et collectif au coeur du village de St-André et de la Petite Nation. Le 10 mars 2025\, mon père aurait eu 65 ans. Les souvenirs de mon père et du théâtre s’entrecroisent souvent\, et on a encore beaucoup à dire sur cet homme aux mille projets et sur ce lieu fondamental de l’histoire de la région\, que notre famille a fait naître et a vu grandir grâce à l’implication de sa communauté. »\nCe sera l’occasion pour les ami.e.s du théâtre et de Danbi\, et pour les personnes qui auraient aimé les connaître\, de partager leurs souvenirs et témoignages et/ou d’en apprendre sur cette époque.\nDes reliques du passé feront office de mini-musée l’espace d’une soirée. Des bouchées et du vin seront disponibles à la carte.\n***Projection – 19 h***\nLa projection\, d’une durée de 52 minutes\, sera suivie d’une discussion.
URL:https://centrenapoleonbourassa.ca/event/les-enfants-du-theatre-celebration-et-projection/
LOCATION:Salle Desjardins de la Petite-Nation\, 378 rue Papineau\, Papineauville\, Québec\, Canada
CATEGORIES:Calendrier Culturel
ORGANIZER;CN="cin%C3%A9maboule":MAILTO:cinemaboule@gmail.com
END:VEVENT
BEGIN:VEVENT
DTSTART;TZID=America/New_York:20250306T190000
DTEND;TZID=America/New_York:20250306T223000
DTSTAMP:20260420T080310
CREATED:20250206T140623Z
LAST-MODIFIED:20250206T140623Z
UID:13693-1741287600-1741300200@centrenapoleonbourassa.ca
SUMMARY:Flow\, le chat\, qui n'avait plus peur de l'eau
DESCRIPTION:Film d’animation\n2024 | 84 min | LETTONIE-FRANCE-BELGIQUE | AnimationRÉALISATION Glints Zilbalodis\n\nUn chat se réveille dans un univers envahi par l’eau où toute vie humaine semble avoir disparu. Il trouve refuge sur un bateau avec un groupe d’autres animaux. Mais s’entendre avec eux s’avère un défi encore plus grand que de surmonter sa peur de l’eau ! Tous devront désormais apprendre à surmonter leurs différences et à s’adapter au nouveau monde qui s’impose à eux.\nAchetez vos billets : https://www.cinemaboule.ca/…/flow-le-chat-qui-navait… \nVoir moins
URL:https://centrenapoleonbourassa.ca/event/flow-le-chat-qui-navait-plus-peur-de-leau/
LOCATION:Salle Desjardins de la Petite-Nation\, 378 rue Papineau\, Papineauville\, Québec\, Canada
CATEGORIES:Calendrier Culturel
ORGANIZER;CN="cin%C3%A9maboule":MAILTO:cinemaboule@gmail.com
END:VEVENT
BEGIN:VEVENT
DTSTART;TZID=America/New_York:20250220T190000
DTEND;TZID=America/New_York:20250220T210000
DTSTAMP:20260420T080310
CREATED:20250206T140939Z
LAST-MODIFIED:20250206T140939Z
UID:13697-1740078000-1740085200@centrenapoleonbourassa.ca
SUMMARY:Soirée de courts-métrages
DESCRIPTION:Soirée de courts-métrages – Les coups de coeurs 2024 du festival REGARD\nLe Festival international du court métrage au Saguenay\, REGARD est l’un des principaux festivals de films courts en Amérique du Nord.\nAu programme :\n● MotherlandDe Jasmin Mozaffari | Canada (Ontario) | 2023 |24 min | Fiction | VOSTF\nEn 1979\, à l’apogée de la crise des otages américains en Iran\, Babak part rencontrer les parents de sa fiancée et se retrouve confronté à la réalité de ce que signifie être un immigrant iranien dans une Amérique post-Vietnam patriotique.\n● Chat mortDe Danick Audet et Annie-Claude CaronCanada (Québec) | 2023 | 13 min | Fiction | VOF\nMais pourquoi donc Catherine et Louis ont-ils choisi un chat avec des taches blanches? Il aurait été tellement plus facile à remplacer s’ils avaient choisi celui qui était tout noir! Maintenant\, ils n’auront pas d’autre choix que d’annoncer à leur fille Sophie que Croquette est morte. À moins que…\n● Les fleurs sauvagesDe Rodolphe Saint-Gelais / Thierry SiroisCanada (Québec) | 2024 | 6 min | Animation | VOF\nÀ travers un message téléphonique détaillé\, un homme explique à son interlocuteur\, comment utiliser son tracteur à gazon\, afin que celui-ci puisse tondre la pelouse de son jardin en son absence.\n● Our Grandmother The InletDe Kayah George et Jaime Leigh GianopoulosCanada (Colombie-Britannique) | 2023 | 9 min | Documentaire | VOSTF\nUn court documentaire poétique mettant en vedette Kayah George et sa grand-mère\, illustrant les effets de la domination industrielle sur la santé mentale de la jeunesse autochtone\, ainsi que la volonté d’un doux retour à l’amour et à la connexion à la culture\, l’eau et le territoire en tant que parents et proches.\n● O Gün Bu Gündür\, Uçuyorum (Depuis que je vole)D’Aylin GökmenSuisse | 2023 | 19 min | Documentaire | VOSTF\nUne immersion poétique dans les souvenirs d’un homme\, où les réalités se mêlent.\nExtrasDe Marc-Antoine LemireCanada (Québec) | 2024 | 16 min | Fiction | Français\nEXT. JOUR – Dimanche matin ensoleillé sur la terrasse d’un café : Isabelle\, une actrice en creux de carrière\, rencontre Johanne\, son agente\, qui a un rôle à lui proposer dans un nouveau projet. À la table et aux alentours\, la tension monte. Les attentes seront-elles comblées?
URL:https://centrenapoleonbourassa.ca/event/soiree-de-courts-metrages/
LOCATION:Salle Desjardins de la Petite-Nation\, 378 rue Papineau\, Papineauville\, Québec\, Canada
CATEGORIES:Calendrier Culturel
ORGANIZER;CN="cin%C3%A9maboule":MAILTO:cinemaboule@gmail.com
END:VEVENT
BEGIN:VEVENT
DTSTART;TZID=America/New_York:20250206T190000
DTEND;TZID=America/New_York:20250206T190000
DTSTAMP:20260420T080310
CREATED:20250206T133425Z
LAST-MODIFIED:20250206T133425Z
UID:13656-1738868400-1738868400@centrenapoleonbourassa.ca
SUMMARY:MOMMY
DESCRIPTION:Mommy – 10 ans\n2014 | 139 min | Québec | DrameRÉALISATION Xavier Dolan | DISTRIBUTION Anne Dorval\, Antoine Olivier Pilon\, Suzanne Clément\nTout juste expulsé du centre pour jeunes en difficulté qu’il fréquente\, Steve doit emménager avec sa mère Diane dans une petite maison de banlieue. Hyperactif et violent\, Steve a une propension à la confrontation et des troubles d’apprentissage. L’arrivée d’une voisine enseignante en année sabbatique\, Kyla\, aide à apporter un peu d’équilibre dans la relation houleuse entre la mère et le fils. Petit à petit\, Diane\, Steve et Kyla développent une complicité pour leur bénéfice mutuel. Mais cet état de bonheur ne dure qu’un temps\, et Steve retombe bientôt dans ses mauvaises habitudes.\nAchetez vos billet : https://www.cinemaboule.ca/events/mommy-10-ans
URL:https://centrenapoleonbourassa.ca/event/mommy/
LOCATION:Salle Desjardins de la Petite-Nation\, 378 rue Papineau\, Papineauville\, Québec\, Canada
CATEGORIES:Calendrier Culturel
ORGANIZER;CN="cin%C3%A9maboule":MAILTO:cinemaboule@gmail.com
END:VEVENT
BEGIN:VEVENT
DTSTART;TZID=America/New_York:20241219T190000
DTEND;TZID=America/New_York:20241219T190000
DTSTAMP:20260420T080310
CREATED:20241122T160249Z
LAST-MODIFIED:20241122T160249Z
UID:13207-1734634800-1734634800@centrenapoleonbourassa.ca
SUMMARY:1995
DESCRIPTION:Achetez vos billets : https://www.cinemaboule.ca/events/1995/!\ Les films commencent à 19h /!\Jeudi 19 décembre 20241995 réalisé par Ricardo Trogi\nEn 1994\, Ricardo a abandonné son rêve d’être cinéaste. Un appel vient cependant raviver la flamme artistique du jeune homme dont la candidature a été retenue parmi les finalistes de l’émission La Course édition 1994-95. Sa vie change du tout au tout. À mi-chemin\, alors qu’il vient de débarquer en Égypte et qu’il traverse plus d’une difficulté pour réaliser un de ses reportages\, Ricardo remettra en cause un tas de choses dont sa propre nature. Est-il ou non un véritable artiste ?
URL:https://centrenapoleonbourassa.ca/event/1995/
LOCATION:Salle Desjardins de la Petite-Nation\, 378 rue Papineau\, Papineauville\, Québec\, Canada
CATEGORIES:Calendrier Culturel
ORGANIZER;CN="cin%C3%A9maboule":MAILTO:cinemaboule@gmail.com
END:VEVENT
BEGIN:VEVENT
DTSTART;TZID=America/New_York:20241205T190000
DTEND;TZID=America/New_York:20241205T210000
DTSTAMP:20260420T080310
CREATED:20241122T160145Z
LAST-MODIFIED:20241122T160145Z
UID:13205-1733425200-1733432400@centrenapoleonbourassa.ca
SUMMARY:La salle des profs
DESCRIPTION:/!\ Les films commencent à 19h /!\Jeudi 5 décembre 2025La salle des profs réalisé par İlker Çatak\nAlors qu’une série de vols a lieu en salle des profs\, Carla Nowak mène l’enquête dans le collège où elle enseigne. Très vite\, tout l’établissement est ébranlé par ses découvertes.
URL:https://centrenapoleonbourassa.ca/event/la-salle-des-profs/
LOCATION:Salle Desjardins de la Petite-Nation\, 378 rue Papineau\, Papineauville\, Québec\, Canada
CATEGORIES:Calendrier Culturel
ORGANIZER;CN="cin%C3%A9maboule":MAILTO:cinemaboule@gmail.com
END:VEVENT
BEGIN:VEVENT
DTSTART;TZID=America/New_York:20241017T190000
DTEND;TZID=America/New_York:20241017T210000
DTSTAMP:20260420T080310
CREATED:20241017T180257Z
LAST-MODIFIED:20241017T180257Z
UID:13020-1729191600-1729198800@centrenapoleonbourassa.ca
SUMMARY:Projection organisée par Cinémaboule : Le Réseau Shelburn
DESCRIPTION:Projection organisée par Cinémaboule à la Coopérative Place du Marché le jeudi 17 octobre19h – Entrée gratuite (Soupe repas à contribution volontaire en soutien à l’organisation Palestinian Youth Mouvement plus d’information en fin de description)\nLe Réseau ShelburnUn film de Nicolas Guillou\nPendant la Seconde Guerre mondiale plus de 10.000 avions alliés tombent sur le sol français. De 1943 à 1944\, le Réseau Shelburn est mis en place par les alliés et la Résistance Française pour évacuer les aviateurs vers l’Angleterre. Dans les Côtes du Nord à Plouha\, Marie-Thérèse Le Calvez\, résistante depuis les premiers jours de l’occupation\, va mettre son courage au service de la liberté. Baignée entre incertitude et désespoir\, quel prix devra-t-elle payer pour que l’opération soit une réussite ?\nInspiré d’une histoire vraie\, en présence de Jacques Le Calvez fils de Marie-Thérèse Le Calvez.\nDe plus :\nUne soupe-repas sera servie pour lever des fonds en soutien au Palestinian Youth Mouvement.Nous servirons une soupe-repas végane fait des délicieux légumes de la ferme Agricola afin de lever des fonds pour le Palestinian Youth Mouvement (PYM) \, une organisation transnationale composée de jeunes palestien.nes qui militent pour la libération de leur territoire ancestrale et leur peuple. Bien que nous sommes très loin de la violence qui déferle en Palestine et au Liban\, nous pouvons montrer notre solidarité en soutenant financièrement la mission du PYM\, qui œuvre pour un un futur plus juste. Il s’agira d’une contribution volontaire pour un grand bol de soupe accompagné d’un pain!Vos questions et/ou commentaires au sujet de la levée de fonds ou du choix de l’organisation seront accueillis ou répondus sur place avec plaisir !\nLes contributions pour le film seront également donné à cette organisation.
URL:https://centrenapoleonbourassa.ca/event/projection-organisee-par-cinemaboule-le-reseau-shelburn/
LOCATION:Coopérative de la Place du Marché\, 4 rue du Marché\, Ripon\, Québec\, J0V 1V0\, Canada
CATEGORIES:Calendrier Culturel
ORGANIZER;CN="cin%C3%A9maboule":MAILTO:cinemaboule@gmail.com
END:VEVENT
BEGIN:VEVENT
DTSTART;TZID=America/New_York:20240502T193000
DTEND;TZID=America/New_York:20240502T193000
DTSTAMP:20260420T080310
CREATED:20240417T131020Z
LAST-MODIFIED:20240417T131020Z
UID:11461-1714678200-1714678200@centrenapoleonbourassa.ca
SUMMARY:Saules aveugles\, femme endormie
DESCRIPTION:Un film de Pierre FöldesAvec : Amaury de Crayencour\, Mathilde Auneveux\, Arnaud Maillard\, Bruno Paviot\, Feodore Atkine\, Pierre FöldesFrance\, Luxembourg\, Canada / 2022 / Animation / 100 minutes\nUn chat perdu\, une grenouille géante volubile et un tsunami aident un attaché commercial sans ambition\, sa femme frustrée et un comptable schizophrène à sauver Tokyo d’un tremblement de terre et à redonner un sens à leurs vies.
URL:https://centrenapoleonbourassa.ca/event/saules-aveugles-femme-endormie-2/
LOCATION:Salle Desjardins de la Petite-Nation\, 378 rue Papineau\, Papineauville\, Québec\, Canada
CATEGORIES:Calendrier Culturel
ORGANIZER;CN="cin%C3%A9maboule":MAILTO:cinemaboule@gmail.com
END:VEVENT
END:VCALENDAR