BEGIN:VCALENDAR
VERSION:2.0
PRODID:-//Centre d&#039;exposition Napoléon-Bourassa - ECPv5.15.0.1//NONSGML v1.0//EN
CALSCALE:GREGORIAN
METHOD:PUBLISH
X-WR-CALNAME:Centre d&#039;exposition Napoléon-Bourassa
X-ORIGINAL-URL:https://centrenapoleonbourassa.ca
X-WR-CALDESC:Events for Centre d&#039;exposition Napoléon-Bourassa
REFRESH-INTERVAL;VALUE=DURATION:PT1H
X-Robots-Tag:noindex
X-PUBLISHED-TTL:PT1H
BEGIN:VTIMEZONE
TZID:America/New_York
BEGIN:DAYLIGHT
TZOFFSETFROM:-0500
TZOFFSETTO:-0400
TZNAME:EDT
DTSTART:20240310T070000
END:DAYLIGHT
BEGIN:STANDARD
TZOFFSETFROM:-0400
TZOFFSETTO:-0500
TZNAME:EST
DTSTART:20241103T060000
END:STANDARD
END:VTIMEZONE
BEGIN:VEVENT
DTSTART;TZID=America/New_York:20240615T170000
DTEND;TZID=America/New_York:20240615T223000
DTSTAMP:20260420T054736
CREATED:20240522T130054Z
LAST-MODIFIED:20240522T130054Z
UID:11634-1718470800-1718490600@centrenapoleonbourassa.ca
SUMMARY:Reggae Fest Ripon
DESCRIPTION:Souper et musique de la Jamaïque!Venez célébrer le goût et le son de la Jamaïque à la Cooperative du marché de Ripon.Come and celebrate Jamaican meal and music with us!Jamaican dish\, punch and live DJ!\nSouper et soirée dansante 30$ Punch 5$Meal and dansing music 30$ Jamaican punch 5$\nTous les profits iront à Kimberley Grantson pour aider à combattre le cancer.All profits will go to Kimberley Grantson to help battle cancer.\nAchats de billets denisroy63@hotmail.com ou Denis Roy au (819)981-1236
URL:https://centrenapoleonbourassa.ca/event/reggae-fest-ripon/
LOCATION:Coopérative de la Place du Marché\, 4 rue du Marché\, Ripon\, Québec\, J0V 1V0\, Canada
CATEGORIES:Calendrier Culturel
ORGANIZER;CN="Denis%20Roy":MAILTO:denisroy63@hotmail.com
END:VEVENT
END:VCALENDAR