BEGIN:VCALENDAR
VERSION:2.0
PRODID:-//Centre d&#039;exposition Napoléon-Bourassa - ECPv5.15.0.1//NONSGML v1.0//EN
CALSCALE:GREGORIAN
METHOD:PUBLISH
X-WR-CALNAME:Centre d&#039;exposition Napoléon-Bourassa
X-ORIGINAL-URL:https://centrenapoleonbourassa.ca
X-WR-CALDESC:Events for Centre d&#039;exposition Napoléon-Bourassa
REFRESH-INTERVAL;VALUE=DURATION:PT1H
X-Robots-Tag:noindex
X-PUBLISHED-TTL:PT1H
BEGIN:VTIMEZONE
TZID:America/New_York
BEGIN:DAYLIGHT
TZOFFSETFROM:-0500
TZOFFSETTO:-0400
TZNAME:EDT
DTSTART:20240310T070000
END:DAYLIGHT
BEGIN:STANDARD
TZOFFSETFROM:-0400
TZOFFSETTO:-0500
TZNAME:EST
DTSTART:20241103T060000
END:STANDARD
END:VTIMEZONE
BEGIN:VEVENT
DTSTART;TZID=America/New_York:20240710T190000
DTEND;TZID=America/New_York:20240710T203000
DTSTAMP:20260420T090232
CREATED:20240529T131501Z
LAST-MODIFIED:20240529T131501Z
UID:11667-1720638000-1720643400@centrenapoleonbourassa.ca
SUMMARY:Mercredi en musique à Papineauville avec Cigales
DESCRIPTION:
URL:https://centrenapoleonbourassa.ca/event/mercredi-en-musique-a-papineauville-avec-cigales/
LOCATION:Parc Henri-Bourassa\, 277 rue Papineau\, Papineauville\, Québec\, Canada
CATEGORIES:Calendrier Culturel
ORGANIZER;CN="Municipalit%C3%A9%20de%20Papineauville":MAILTO:loisoirs@papineauville.ca
END:VEVENT
BEGIN:VEVENT
DTSTART;TZID=America/New_York:20240703T190000
DTEND;TZID=America/New_York:20240703T210000
DTSTAMP:20260420T090232
CREATED:20240529T131337Z
LAST-MODIFIED:20240529T131337Z
UID:11665-1720033200-1720040400@centrenapoleonbourassa.ca
SUMMARY:Mercredi en musique à Papineauville avec Danny Richard
DESCRIPTION:
URL:https://centrenapoleonbourassa.ca/event/mercredi-en-musique-a-papineauville-avec-danny-richard/
LOCATION:Parc Henri-Bourassa\, 277 rue Papineau\, Papineauville\, Québec\, Canada
CATEGORIES:Calendrier Culturel
ORGANIZER;CN="Municipalit%C3%A9%20de%20Papineauville":MAILTO:loisoirs@papineauville.ca
END:VEVENT
BEGIN:VEVENT
DTSTART;TZID=America/New_York:20240626T190000
DTEND;TZID=America/New_York:20240626T203000
DTSTAMP:20260420T090232
CREATED:20240529T131208Z
LAST-MODIFIED:20240529T131208Z
UID:11663-1719428400-1719433800@centrenapoleonbourassa.ca
SUMMARY:Mercredi en musique à Papineauville avec Namasté
DESCRIPTION:
URL:https://centrenapoleonbourassa.ca/event/mercredi-en-musique-a-papineauville-avec-namaste/
LOCATION:Parc Henri-Bourassa\, 277 rue Papineau\, Papineauville\, Québec\, Canada
CATEGORIES:Calendrier Culturel
ORGANIZER;CN="Municipalit%C3%A9%20de%20Papineauville":MAILTO:loisoirs@papineauville.ca
END:VEVENT
BEGIN:VEVENT
DTSTART;TZID=America/New_York:20240518T103000
DTEND;TZID=America/New_York:20240518T223000
DTSTAMP:20260420T090232
CREATED:20240503T131605Z
LAST-MODIFIED:20240503T131605Z
UID:11534-1716028200-1716071400@centrenapoleonbourassa.ca
SUMMARY:Commémoration Denis-Benjamin Papineau
DESCRIPTION:Cette année\, la MRC de Papineau célèbre le 350e anniversaire de la seigneurie de la Petite-Nation. Nombre d’activités et évènements à caractère historique font partie de la programmation. En cette occasion la municipalité de Papineauville\, de concert avec plusieurs organismes à but non lucratif de Papineauville\, dont le Comité culturel de Papineuville\, le Club des aînés de la Baie\, la Fabrique\, les Fermières et plus encore\, nommera Édifice Denis-Benjamin-Papineau l’ancienne mairie construite sur un terrain qu’il avait cédé pour la construction d’un Town Hall (Hôtel de ville)\, et dévoilera une plaque commémorative en l’honneur de ce grand homme historique canadien-français\, père fondateur de notre village.\nLors de la grande fin de semaine du 17 mai 2024\, Papineauville reconnaît son père fondateur\, Denis Benjamin Papineau.\nLes municipalités de Plaisance\, Papineauville\, Montebello et Fassett sont le fruit des multiples efforts déployés par Denis-Benjamin Papineau pour amener des colons sur les terres familiales. Quant à lui\, il a choisi de s’installer sur les bords du ruisseau Amédé pour y construire sa ferme et être à proximité du second moulin banal de la Seigneurie.\n\n\nDonc\, le 18 mai prochain\, le Tout-Papineauville sera au rendez-vous pour reconnaître officiellement son père fondateur\, celui qui a décidé de donner le nom de Papineau Ville à notre municipalité.\nCe qui vous attends lors de cet évènement:11h-12hActivités protocolaires:Levée du drapeauDiscours patriotiquesRedénomination de l’édifice Ancienne MairieDévoilement d’une plaque commémorativePrésence des plusieurs descendants de Denis Benjamin Papineau ainsi que de dignitaires.\n\n\n13h-17hActivités familiales gratuites:Jeux d’évasion – thème Nouvelle-FrancePromenade en calèche afin de découvrir le circuit patrimonialInitiation à l’escrimePrésence d’un crieur publicMaquillageAmuseurs publics – échassiersCantine ($$)Brocante à la Fabrique (8h-16h)\n17h-22hSouper dans la rueAfin de bien terminer la journée\, nous vous invitons à vous joindre à nous lors du souper dans la rue Jeanne-d’Arc (en cas de mauvais temps\, le souper aura lieu au centre communautaire situé au 378C\, rue Papineau).\nRéservation obligatoire de votre table avant le 13 mai 2024 16h00 auprès de la réception de la municipalité 819 427-5511 p.2501 / reception@papineauville.ca\nPour tous les détails\, visitez notre site Web www.papineauville.ca
URL:https://centrenapoleonbourassa.ca/event/commemoration-denis-benjamin-papineau/
LOCATION:277 rue Papineau\, Papineauville\, 277 rue Papineau\, Papineauville\, Québec\, J0V 1R0\, Canada
CATEGORIES:Calendrier Culturel
ORGANIZER;CN="Municipalit%C3%A9%20de%20Papineauville":MAILTO:loisoirs@papineauville.ca
END:VEVENT
END:VCALENDAR