BEGIN:VCALENDAR
VERSION:2.0
PRODID:-//Centre d&#039;exposition Napoléon-Bourassa - ECPv5.15.0.1//NONSGML v1.0//EN
CALSCALE:GREGORIAN
METHOD:PUBLISH
X-WR-CALNAME:Centre d&#039;exposition Napoléon-Bourassa
X-ORIGINAL-URL:https://centrenapoleonbourassa.ca
X-WR-CALDESC:Events for Centre d&#039;exposition Napoléon-Bourassa
REFRESH-INTERVAL;VALUE=DURATION:PT1H
X-Robots-Tag:noindex
X-PUBLISHED-TTL:PT1H
BEGIN:VTIMEZONE
TZID:America/New_York
BEGIN:DAYLIGHT
TZOFFSETFROM:-0500
TZOFFSETTO:-0400
TZNAME:EDT
DTSTART:20240310T070000
END:DAYLIGHT
BEGIN:STANDARD
TZOFFSETFROM:-0400
TZOFFSETTO:-0500
TZNAME:EST
DTSTART:20241103T060000
END:STANDARD
END:VTIMEZONE
BEGIN:VEVENT
DTSTART;TZID=America/New_York:20240420T140000
DTEND;TZID=America/New_York:20240420T160000
DTSTAMP:20260420T095859
CREATED:20240321T191111Z
LAST-MODIFIED:20240321T191111Z
UID:11416-1713621600-1713628800@centrenapoleonbourassa.ca
SUMMARY:Lancement du livre - La merveilleuse histoire de l'Ange de la rivière de la Petite-Nation
DESCRIPTION:C’est un immense plaisir que la Société historique de Saint-André-Avellin \,dans le cadre des fêtes du 350ième \nAnniversaire de la Seigneurie de la Petite-Nation\, vous invite à participer au lancement du livre La merveilleuse \nHistoire de l’Ange de la rivière de la Petite-Nation.  \n  \nNous serions bien heureuses de vous accueillir le samedi 20 avril prochain à 14h00 au Complexe Whissell\, à \nSaint-André-Avellin. Veuillez confirmer votre présence dès que possible par courriel à \n  \nMuseedespionniers@videotron.ca \n  \nNous vous attendons avec impatience afin de souligner cet évènement. \n  \nMerci \n  \nLucie Lalonde \nPrésidente de la Société historique de Saint-André-Avellin \n  \nThérèse Whissell \nAutrice du livre
URL:https://centrenapoleonbourassa.ca/event/lancement-du-livre-la-merveilleuse-histoire-de-lange-de-la-riviere-de-la-petite-nation/
LOCATION:Complexe Whissell\, 530 Rue Charles Auguste Montreuil\, Saint-André-Avellin\, Québec\, J0V 1W0\, Canada
CATEGORIES:Calendrier Culturel
ORGANIZER;CN="Soci%C3%A9t%C3%A9%20historique%20de%20Saint-Andr%C3%A9-Avellin":MAILTO:Museedespionniers@videotron.ca
END:VEVENT
END:VCALENDAR