BEGIN:VCALENDAR
VERSION:2.0
PRODID:-//Centre d&#039;exposition Napoléon-Bourassa - ECPv5.15.0.1//NONSGML v1.0//EN
CALSCALE:GREGORIAN
METHOD:PUBLISH
X-WR-CALNAME:Centre d&#039;exposition Napoléon-Bourassa
X-ORIGINAL-URL:https://centrenapoleonbourassa.ca
X-WR-CALDESC:Events for Centre d&#039;exposition Napoléon-Bourassa
REFRESH-INTERVAL;VALUE=DURATION:PT1H
X-Robots-Tag:noindex
X-PUBLISHED-TTL:PT1H
BEGIN:VTIMEZONE
TZID:America/New_York
BEGIN:DAYLIGHT
TZOFFSETFROM:-0500
TZOFFSETTO:-0400
TZNAME:EDT
DTSTART:20240310T070000
END:DAYLIGHT
BEGIN:STANDARD
TZOFFSETFROM:-0400
TZOFFSETTO:-0500
TZNAME:EST
DTSTART:20241103T060000
END:STANDARD
END:VTIMEZONE
BEGIN:VEVENT
DTSTART;TZID=America/New_York:20241128T090000
DTEND;TZID=America/New_York:20241128T160000
DTSTAMP:20260420T061150
CREATED:20241122T144700Z
LAST-MODIFIED:20241122T144700Z
UID:13150-1732784400-1732809600@centrenapoleonbourassa.ca
SUMMARY:1er Forum du Plan de développement de la zone agricole et agroforestière
DESCRIPTION:Vous êtes invités à participer à la mise à jour du Plan de développement de la zone agricole et agroforestière.\nLe dîner est offert gratuitement.\nLes producteurs\, transformateurs\, agriculteurs\, restaurateurs et les épiciers sont invités tout comme les élus et les citoyens puisque tout le monde est concerné par ce plan. Après tout\, tout le monde mange .\nInscription obligatoire : https://share.hsforms.com/1-oDCAoQDQpSRHCuL26P4Ywcsnn4
URL:https://centrenapoleonbourassa.ca/event/1er-forum-du-plan-de-developpement-de-la-zone-agricole-et-agroforestiere/
LOCATION:121 chemin du Pont de Bois\, Val-des-Bois\, 121 chemin du Pont de bois\, Val-des-Bois\, Québec\, J0X 3C0\, Canada
CATEGORIES:Calendrier Culturel
END:VEVENT
END:VCALENDAR