BEGIN:VCALENDAR
VERSION:2.0
PRODID:-//Centre d&#039;exposition Napoléon-Bourassa - ECPv5.15.0.1//NONSGML v1.0//EN
CALSCALE:GREGORIAN
METHOD:PUBLISH
X-WR-CALNAME:Centre d&#039;exposition Napoléon-Bourassa
X-ORIGINAL-URL:https://centrenapoleonbourassa.ca
X-WR-CALDESC:Events for Centre d&#039;exposition Napoléon-Bourassa
REFRESH-INTERVAL;VALUE=DURATION:PT1H
X-Robots-Tag:noindex
X-PUBLISHED-TTL:PT1H
BEGIN:VTIMEZONE
TZID:America/New_York
BEGIN:DAYLIGHT
TZOFFSETFROM:-0500
TZOFFSETTO:-0400
TZNAME:EDT
DTSTART:20240310T070000
END:DAYLIGHT
BEGIN:STANDARD
TZOFFSETFROM:-0400
TZOFFSETTO:-0500
TZNAME:EST
DTSTART:20241103T060000
END:STANDARD
END:VTIMEZONE
BEGIN:VEVENT
DTSTART;TZID=America/New_York:20240803T190000
DTEND;TZID=America/New_York:20240803T210000
DTSTAMP:20260420T051031
CREATED:20240417T135620Z
LAST-MODIFIED:20240417T135620Z
UID:11490-1722711600-1722718800@centrenapoleonbourassa.ca
SUMMARY:Beach-Party avec DJ Téo
DESCRIPTION:Ce soir d’été\, dansez sous les étoiles les pieds dans le sable aux rythmes de DJ Téo.Apportez vos chaises de plage pour vous détendre et vous asseoir près de l’un des nombreux feux.Veuillez apporter vos boissons uniquement dans des canettes pour éviter les blessures. Merci.Nous attendons déjà avec impatience cette soirée très spéciale.
URL:https://centrenapoleonbourassa.ca/event/beach-party-avec-dj-teo/
LOCATION:Camping La Pinède\, 1735\, rue de la pinède\, Lac-Simon\, Québec\, Canada
CATEGORIES:Calendrier Culturel
ORGANIZER;CN="Camping%20La%20Pin%C3%A8de":MAILTO:lapinede@hotmail.com
END:VEVENT
END:VCALENDAR