BEGIN:VCALENDAR
VERSION:2.0
PRODID:-//Centre d&#039;exposition Napoléon-Bourassa - ECPv5.15.0.1//NONSGML v1.0//EN
CALSCALE:GREGORIAN
METHOD:PUBLISH
X-WR-CALNAME:Centre d&#039;exposition Napoléon-Bourassa
X-ORIGINAL-URL:https://centrenapoleonbourassa.ca
X-WR-CALDESC:Events for Centre d&#039;exposition Napoléon-Bourassa
REFRESH-INTERVAL;VALUE=DURATION:PT1H
X-Robots-Tag:noindex
X-PUBLISHED-TTL:PT1H
BEGIN:VTIMEZONE
TZID:America/New_York
BEGIN:DAYLIGHT
TZOFFSETFROM:-0500
TZOFFSETTO:-0400
TZNAME:EDT
DTSTART:20250309T070000
END:DAYLIGHT
BEGIN:STANDARD
TZOFFSETFROM:-0400
TZOFFSETTO:-0500
TZNAME:EST
DTSTART:20251102T060000
END:STANDARD
END:VTIMEZONE
BEGIN:VEVENT
DTSTART;TZID=America/New_York:20250516T090000
DTEND;TZID=America/New_York:20250518T160000
DTSTAMP:20260421T064115
CREATED:20250416T173310Z
LAST-MODIFIED:20250416T173310Z
UID:13880-1747386000-1747584000@centrenapoleonbourassa.ca
SUMMARY:L'art populaire en folie
DESCRIPTION:L’Art Populaire en Folie – Un événement unique célébrant l’art populaire du Québec ! \nLe Centre d’art populaire du Québec a le plaisir de vous inviter à L’Art Populaire en Folie\, un événement exceptionnel qui mettra à l’honneur l’art populaire du Québec. Ce sera l’occasion de découvrir des créations fascinantes\, de rencontrer des artistes et de plonger dans l’univers du steampunk et de l’art populaire !\n Dates : 16\, 17 et 18 mai 2025\n Heures d’ouverture :Vendredi : Cérémonie d’ouverture à 15h\, 16h à 19h ouverture de l’expo-venteSamedi : 9h à 17hDimanche : 9h à 16h\n Lieu : au Centre d’art populaire à Plaisance\, Outaouais (276 rue Desjardins)\nAppel à candidatures Nous recherchons des sculptrices et sculpteurs (art populaire et steampunk)\, ainsi que des courtepointières et courtepointiers pour participer à notre expo-vente. Ne manquez pas cette occasion de faire découvrir vos œuvres à un public passionné !\n Coût de participation : 50 $ (inclut une table et deux chaises). Aucun pourcentage ne sera pris sur les ventes. Espace alloué : 10’ x 10’ (décoration libre dans les limites de l’espace).\nInscriptions ouvertes du 25 novembre 2024 au 15 janvier 2025.Les candidatures seront évaluées à la fin janvier\, et les artistes sélectionnés seront contactés début février 2025. Attention\, les places sont limitées !\nPour soumettre votre candidature : Envoyez un courriel à candidature@capq.ca avec les informations suivantes :\nNom completAdresseNuméro de téléphone4 photos maximum de vos œuvres(Envoyez un seul courriel\, s’il vous plaît).\nAteliers interactifs Nous offrons également la possibilité de proposer des ateliers interactifs pour enrichir l’expérience des visiteurs ! Si vous souhaitez animer un atelier\, précisez :\nLe type d’atelierLa durée (ex. : 2 heures\, une journée\, tous les jours\, etc.)Venez célébrer la richesse de l’art populaire québécois et partager votre passion avec le public !\n Partagez cette invitation parmi vos réseaux de créateurs et créatrices !\nÀ très bientôt\,L’équipe de L’Art Populaire en Folie 
URL:https://centrenapoleonbourassa.ca/event/lart-populaire-en-folie/
LOCATION:Centre d’art populaire du Québec\, 276 rue Desjardins\, Plaisance\, Québec\, J0V1S0\, Canada
CATEGORIES:Calendrier Culturel
END:VEVENT
END:VCALENDAR