BEGIN:VCALENDAR
VERSION:2.0
PRODID:-//Centre d&#039;exposition Napoléon-Bourassa - ECPv5.15.0.1//NONSGML v1.0//EN
CALSCALE:GREGORIAN
METHOD:PUBLISH
X-WR-CALNAME:Centre d&#039;exposition Napoléon-Bourassa
X-ORIGINAL-URL:https://centrenapoleonbourassa.ca
X-WR-CALDESC:Events for Centre d&#039;exposition Napoléon-Bourassa
REFRESH-INTERVAL;VALUE=DURATION:PT1H
X-Robots-Tag:noindex
X-PUBLISHED-TTL:PT1H
BEGIN:VTIMEZONE
TZID:America/New_York
BEGIN:DAYLIGHT
TZOFFSETFROM:-0500
TZOFFSETTO:-0400
TZNAME:EDT
DTSTART:20240310T070000
END:DAYLIGHT
BEGIN:STANDARD
TZOFFSETFROM:-0400
TZOFFSETTO:-0500
TZNAME:EST
DTSTART:20241103T060000
END:STANDARD
END:VTIMEZONE
BEGIN:VEVENT
DTSTART;TZID=America/New_York:20240511T130000
DTEND;TZID=America/New_York:20240511T150000
DTSTAMP:20260421T061554
CREATED:20240503T130350Z
LAST-MODIFIED:20240503T130350Z
UID:11527-1715432400-1715439600@centrenapoleonbourassa.ca
SUMMARY:Lancement du livre : La forêt magique de Sanaëlle
DESCRIPTION:QUAND : Le samedi 11 mai 2024\, à 13 hOÙ : La Destination de Noël\, au 18 rue du Rivage à Ripon\nUn léger goûter sera offert.\nNous demandons à ce que vous puissiez vous inscrire gratuitement afin de prévoir le nombre de places.
URL:https://centrenapoleonbourassa.ca/event/lancement-du-livre-la-foret-magique-de-sanaelle/
LOCATION:La Destination de Noël\, 18 Rue du Rivage\, Ripon\, Québec\, J0V 1V0\, Canada
CATEGORIES:Calendrier Culturel
ORGANIZER;CN="La%20Destination%20de%20No%C3%ABl":MAILTO:info@boutique-noel.ca
END:VEVENT
END:VCALENDAR